BEGIN:VCALENDAR
VERSION:2.0
PRODID:-//Welcome to Friends of Cold Spring Park, Newton, Mass! - ECPv6.15.20//NONSGML v1.0//EN
CALSCALE:GREGORIAN
METHOD:PUBLISH
X-ORIGINAL-URL:https://coldspringpark.org
X-WR-CALDESC:Events for Welcome to Friends of Cold Spring Park, Newton, Mass!
REFRESH-INTERVAL;VALUE=DURATION:PT1H
X-Robots-Tag:noindex
X-PUBLISHED-TTL:PT1H
BEGIN:VTIMEZONE
TZID:UTC
BEGIN:STANDARD
TZOFFSETFROM:+0000
TZOFFSETTO:+0000
TZNAME:UTC
DTSTART:20240101T000000
END:STANDARD
END:VTIMEZONE
BEGIN:VEVENT
DTSTART;TZID=UTC:20250920T100000
DTEND;TZID=UTC:20250920T120000
DTSTAMP:20260421T144133
CREATED:20250907T184728Z
LAST-MODIFIED:20250907T184728Z
UID:2164-1758362400-1758369600@coldspringpark.org
SUMMARY:Tour Cold Spring Park
DESCRIPTION:Tour Cold Spring Park\, a woodland and wetland haven in the heart of Newton\, and explore some of its natural wonders\, mysteries\, threats\, and possibilities with Friends of Cold Spring Park founder and president Alan Nogee.  See what makes a natural plant community invaluable for wildlife\, climate mitigation\, and climate resilience.  Meet at the kiosk beyond the parking area at the far-left end of the Beacon Street entrance. Rain date: Sept. 21\, 10 am-12 noon. \nRegistration: Limited to 30 people. Registration is optional but recommended\, so we can send you scheduling changes\, directions or advice (such as about trail hazards) before the event and educational resources after it.  https://newtonconservators.org/events/the-many-facets-of-cold-spring-park/ \nTrip Leader: Alan Nogee (617-821-1265) (friendsofcoldspringpark@gmail.com)
URL:https://coldspringpark.org/event/tour-cold-spring-park/
END:VEVENT
BEGIN:VEVENT
DTSTART;TZID=UTC:20250916T163000
DTEND;TZID=UTC:20250916T170000
DTSTAMP:20260421T144133
CREATED:20250907T184412Z
LAST-MODIFIED:20250907T184412Z
UID:2162-1758040200-1758042000@coldspringpark.org
SUMMARY:Plymouth Road Box Stairs Ribbon-cutting
DESCRIPTION:Please join the Friends of Cold Spring Park to celebrate the dedication of Cold Spring Park’s Box Stairs @ Plymouth Rd. with Mayor Ruthanne Fuller. \n\nDate: Tuesday\, September 16th\, 2025 \nTime: 4:30 pm \nLocation: Cold Spring Park\, 156-182 Plymouth Rd.\, Newton MA \nMeet at the Cold Spring Park – Signpost # 0.57 C (on Cochituate Aqueduct) \n\nAgenda: \n4:30 pm:     Guest Arrival and Welcome Reception (light refreshments) \n4:45 pm:     Remarks by Mayor Fuller \nAlan Nogee\, President of the Friends of Cold Spring Park \n5:00 pm:     Ribbon Cutting Ceremony with Mayor Fuller \n\nPlease RSVP by Friday\, September 12th \nmailto:FriendsOfColdSpringPark@gmail.com \n\nParking details: https://newtonconservators.org/wp-content/uploads/2018/10/14coldspring.pdf \n\nWe are honored to have Mayor Fuller join us at this special event for the official celebration of the Cold Spring Park Box Stairs. This marks our dedicated commitment to Cold Spring Park\, and continued cooperation with Scouting America – especially Waban Troop 209 – and the Parks\, Recreation and Culture Dept. We would be delighted to share this moment with you\, friends\, valued partners and fellow community members. \n\nFor more information about the Friends of Cold Spring Park:  coldspringpark.org \n\nFollow us on social media for updates:  facebook.com/FriendsofColdSpringPark
URL:https://coldspringpark.org/event/plymouth-road-box-stairs-ribbon-cutting/
LOCATION:Cold Spring Park\, 1094 Beacon St\, Newton\, MA\, 02461\, United States
END:VEVENT
END:VCALENDAR